BEGIN:VCALENDAR
VERSION:2.0PRODID:-//Startseite//NONSGML ProcessWire//DE
CALSCALE:GREGORIAN
METHOD:PUBLISH
BEGIN:VEVENT
SUMMARY:MR-Lehrfahrt Sommer 2026
UID:883db03dc57856605a4567ee0abfb767@www.mrfreising.de
CLASS:PUBLIC
STATUS:CONFIRMED
DTSTART:20260607T210000
DTEND:20260610T060000
DTSTAMP:20260421T104600
CATEGORIES:Landwirtschaft,Maschinenring
LOCATION:
URL:https://www.mrfreising.de/termine/mr-lehrfahrt-sommer-2026-2026-06-07-2140.ics
END:VEVENT
END:VCALENDAR